BEGIN:VCALENDAR
VERSION:2.0
PRODID:-//eventon.com NONSGML v1.0//EN
BEGIN:VEVENT
UID:69e50ebc8097a
DTSTAMP:20260419T171956
DTSTART:20210116T000000Z
DTEND:20210117T235900Z
LOCATION:Back Alley Bikes 3611 Cass Ave\,  Detroit\,  MI 48201
SUMMARY:Bike the Blizzard
DESCRIPTION: Back Alley Bikes brings in 2021 with the 9th annual Bike the Blizzard fundraising event. This year\,  riders can join organized rides throughout daylight hours on Saturday\,  January 16th and Sunday\,  January 17th. Some riders will also stick to the 24 hour tradition of years past and ride throughout the night.[..]
END:VEVENT
END:VCALENDAR