BEGIN:VCALENDAR
VERSION:2.0
PRODID:-//eventon.com NONSGML v1.0//EN
BEGIN:VEVENT
UID:69e9391c0d3aa
DTSTAMP:20260422T210948
DTSTART:20210301T000000Z
DTEND:20210328T235900Z
LOCATION:Simone DeSousa Gallery 444 W Willis St\,  Detroit\,  MI 48201
SUMMARY:Kayla Powers\,  Soft Grid
DESCRIPTION: Simone DeSousa EDITION is pleased to present a selection of new works by Detroit-based textile artist Kayla Powers. “soft grid” is a body of work that emphasizes the fundamental structure of a woven textile through design and pattern. All of the colors come from plants that were grown or foraged[..]
END:VEVENT
END:VCALENDAR